BEGIN:VCALENDAR
VERSION:2.0
PRODID:-//Femmes &amp; santé - ECPv6.15.14//NONSGML v1.0//EN
CALSCALE:GREGORIAN
METHOD:PUBLISH
X-WR-CALNAME:Femmes &amp; santé
X-ORIGINAL-URL:https://femmesetsante.be
X-WR-CALDESC:Évènements pour Femmes &amp; santé
REFRESH-INTERVAL;VALUE=DURATION:PT1H
X-Robots-Tag:noindex
X-PUBLISHED-TTL:PT1H
BEGIN:VTIMEZONE
TZID:Europe/Brussels
BEGIN:DAYLIGHT
TZOFFSETFROM:+0100
TZOFFSETTO:+0200
TZNAME:CEST
DTSTART:20200329T010000
END:DAYLIGHT
BEGIN:STANDARD
TZOFFSETFROM:+0200
TZOFFSETTO:+0100
TZNAME:CET
DTSTART:20201025T010000
END:STANDARD
BEGIN:DAYLIGHT
TZOFFSETFROM:+0100
TZOFFSETTO:+0200
TZNAME:CEST
DTSTART:20210328T010000
END:DAYLIGHT
BEGIN:STANDARD
TZOFFSETFROM:+0200
TZOFFSETTO:+0100
TZNAME:CET
DTSTART:20211031T010000
END:STANDARD
BEGIN:DAYLIGHT
TZOFFSETFROM:+0100
TZOFFSETTO:+0200
TZNAME:CEST
DTSTART:20220327T010000
END:DAYLIGHT
BEGIN:STANDARD
TZOFFSETFROM:+0200
TZOFFSETTO:+0100
TZNAME:CET
DTSTART:20221030T010000
END:STANDARD
END:VTIMEZONE
BEGIN:VEVENT
DTSTART;TZID=Europe/Brussels:20210226T093000
DTEND;TZID=Europe/Brussels:20210326T163000
DTSTAMP:20260426T025103
CREATED:20250121T160153Z
LAST-MODIFIED:20250121T160157Z
UID:10000026-1614331800-1616776200@femmesetsante.be
SUMMARY:Session 2021 - Penser les questions de genre pour promouvoir la santé
DESCRIPTION:L’ASBL Repères\, en collaboration avec l’ASBL Femmes et Santé vous invitent à participer à un module de formation expérimentale. \nLes apports des participant·es et l’expérience individuelle et collective vécue dans cet espace de formation permettront de ﬁnaliser la construction d’un module de formation à l’attention des travailleurs et travailleuses soucieux·ses d’inclure ces questions dans leurs pratiques. \nObjectifs pour les participant.es: \n\nMieux comprendre ce que recouvre les notions liées au genre (hétéro/cis sexisme\, intersectionnalité\,…)\nExpérimenter en quoi le genre est un déterminant de santé transversal\nRéﬂéchir à la manière dont des représentations liées au genre\, des stéréotypes sexistes et hétérosexistes\, nous habitent malgré nous\nMesurer comment ces représentations/stéréotypes inﬂuencent nos projets\, nos pratiques avec les bénéﬁciaires et avec nos collègues\nRenforcer nos capacités à développer des pratiques plus équitables/égalitaires/inclusives\nRéﬂéchir aux enjeux de transmission et aux eﬀets démultiplicateurs de ces réﬂexions dans les institutions et vers les publics.\n\nNous souhaitons constituer un groupe de 6 à 10 personnes dont les proﬁls sont les plus diversiﬁés possibles et intéressées de participer à la co-construction d’un module de formation. \nSession 2021 – Wallonie: \n\n4 journées: Ve – 26 février 2021\, Ve – 5 mars 2021\, Ve – 19 mars 2021\, Ve – 26 mars 2021. Les formations ont lieu de 9h30 à 16h00\n6 demi-jours d’atelier: Ve – 7 mai 2021\, Ve – 11 juin 2021\, + 4 dates à définir de septembre à décembre 2021. Les ateliers ont lieu de 9h30 à 12h30\n\nInscriptions via mail à l’adresse: reperes.coord@gmail.com \nRenseignements: 02/539.15.89 \nPour plus d’informations\, cliquez ici.
URL:https://femmesetsante.be/event/session-2021-penser-les-questions-de-genre-pour-promouvoir-la-sante/
LOCATION:Femme et Santé\, Belgium
CATEGORIES:Formation
END:VEVENT
END:VCALENDAR