BEGIN:VCALENDAR
VERSION:2.0
PRODID:-//Femmes &amp; santé - ECPv6.15.14//NONSGML v1.0//EN
CALSCALE:GREGORIAN
METHOD:PUBLISH
X-WR-CALNAME:Femmes &amp; santé
X-ORIGINAL-URL:https://femmesetsante.be
X-WR-CALDESC:Évènements pour Femmes &amp; santé
REFRESH-INTERVAL;VALUE=DURATION:PT1H
X-Robots-Tag:noindex
X-PUBLISHED-TTL:PT1H
BEGIN:VTIMEZONE
TZID:Europe/Brussels
BEGIN:DAYLIGHT
TZOFFSETFROM:+0100
TZOFFSETTO:+0200
TZNAME:CEST
DTSTART:20240331T010000
END:DAYLIGHT
BEGIN:STANDARD
TZOFFSETFROM:+0200
TZOFFSETTO:+0100
TZNAME:CET
DTSTART:20241027T010000
END:STANDARD
BEGIN:DAYLIGHT
TZOFFSETFROM:+0100
TZOFFSETTO:+0200
TZNAME:CEST
DTSTART:20250330T010000
END:DAYLIGHT
BEGIN:STANDARD
TZOFFSETFROM:+0200
TZOFFSETTO:+0100
TZNAME:CET
DTSTART:20251026T010000
END:STANDARD
BEGIN:DAYLIGHT
TZOFFSETFROM:+0100
TZOFFSETTO:+0200
TZNAME:CEST
DTSTART:20260329T010000
END:DAYLIGHT
BEGIN:STANDARD
TZOFFSETFROM:+0200
TZOFFSETTO:+0100
TZNAME:CET
DTSTART:20261025T010000
END:STANDARD
END:VTIMEZONE
BEGIN:VEVENT
DTSTART;TZID=Europe/Brussels:20250611T090000
DTEND;TZID=Europe/Brussels:20250611T130000
DTSTAMP:20260423T193623
CREATED:20250520T123142Z
LAST-MODIFIED:20250520T123322Z
UID:10000059-1749632400-1749646800@femmesetsante.be
SUMMARY:Matinée : L’auto-santé pour tous·tes !
DESCRIPTION:Le Réseau wallon pour la Santé des femmes (RWSF) a le plaisir de vous convier ce 11 juin 2025 à une matinée autour du thème de l’auto-santé. Celle-ci s’adresse à toute personne souhaitant faciliter des ateliers d’auto-santé\, bénévole ou professionnelle\, et a pour objectif de se familiariser avec les méthodes d’animation et les principes de l’auto-santé.  \n			\n				\n				\n				\n				\n				Objectifs \nGrâce cette matinée\, vous pourrez : \n\nVous familiariser avec les méthodes d’animation et les principes de l’auto-santé\nVous sentir légitime pour lancer des ateliers d’auto-santé autour de vous\nÊtre autonome dans l’organisation de ces ateliers\n\nEn d’autres termes\, vous vous sentirez outillé·e pour vous lancer dans l’organisation d’ateliers par vous-mêmes ! \n			\n				\n				\n				\n				\n				Programme\n\n9h00 : Accueil \n9h25-9h30 : Présentations des partenaires et des objectifs de la matinée\n9h30-10h15 : Les clés d’animation des ateliers d’auto-santé \n10h15-12h45 : Deux ateliers en sous-groupes/en tournante qui permettront d’analyser le choix du contenu et les connaissances nécessaires\, ainsi que la posture et la légitimité de la facilitatrice> Anatomie et cycle> Bobos du quotidien Légitimité et implication de la personne qui anime\n12h45-13h : Clôture\n\n			\n				\n				\n				\n				\n				Inscrivez-vous\, c’est gratuit ! \n			\n				Je m'inscris\n			\n				\n				\n				\n				\n				IMPORTANT : Le nombre d’inscriptions sera limité à 25 personnes pour garantir une approche ciblée. \nLunch prévu à la fin de la matinée.
URL:https://femmesetsante.be/event/matinee-lauto-sante-pour-tous%c2%b7tes/
LOCATION:Maison de la Laïcité (Salle Hypathia)\, Rue des Deux Ponts\, 19\, Ottignies-Louvain-La-Neuve\, 1340
CATEGORIES:Ateliers
ATTACH;FMTTYPE=image/png:https://femmesetsante.be/wp-content/uploads/2025/05/Matinee-auto-sante-11-juin-25-FESA.png
END:VEVENT
BEGIN:VEVENT
DTSTART;TZID=Europe/Brussels:20250627T153000
DTEND;TZID=Europe/Brussels:20250627T183000
DTSTAMP:20260423T193623
CREATED:20250611T122250Z
LAST-MODIFIED:20250611T135804Z
UID:10000061-1751038200-1751049000@femmesetsante.be
SUMMARY:Arpente Festival : Mauvais traitements\, pourquoi les femmes sont mal soignées ?
DESCRIPTION:Dans le cadre de l’Arpente Festival\, Femmes et Santé propose un atelier d’arpentage du livre Mauvais traitements\, pourquoi les femmes sont mal soignées ? de Delphine Bauer et Ariane Puccini. Ensemble\, nous explorerons notamment pourquoi les femmes sont majoritaires à signaler les effets indésirables aux médicaments\, mais aussi ce que sont la taxe rose et le femwashing.  \nL’Arpente Festival \nL’arpente collective organise depuis 2023 l’arpente festival visant à mettre en lumière des vécus et des thématiques peu présentes dans l’espace public au travers d’outils d’éducation populaire. \nObjectifs :  \n\nFaire découvrir différents outils d’éducation permanente et sensibiliser sur des thématiques et des vécus peu visibles dans l’espace public\nFavoriser la prise de conscience d’autres réalités politiques et mettre en perspective ses propres croyances et préjugés en vue de développer\, tolérance et sens critique\nProposer un événement ouvert au plus grand nombre en intégrant les questions d’accessibilité financière\, physique\, sociale\, etc.  \n\nL’atelier de Femmes et Santé aura lieu le vendredi 27 juin de 15h30 à 18h30. \n			\n				\n				\n				\n				\n				Infos et inscriptions \n			\n				Sur Facebook ! \n			\n				\n				\n				\n				\n				Plus d’infos sur le site d’Arpente Collective : https://arpentecollective.be/larpente-festival/  \n 
URL:https://femmesetsante.be/event/arpente-festival-mauvais-traitements-pourquoi-les-femmes-sont-mal-soignees/
LOCATION:Zinneke Parade\, Place Masui 13\, Bruxelles\, 1000\, Belgium
CATEGORIES:Ateliers
ATTACH;FMTTYPE=image/png:https://femmesetsante.be/wp-content/uploads/2025/06/20250627_Arpente-1.png
END:VEVENT
END:VCALENDAR