BEGIN:VCALENDAR
VERSION:2.0
PRODID:-//Femmes &amp; santé - ECPv6.15.14//NONSGML v1.0//EN
CALSCALE:GREGORIAN
METHOD:PUBLISH
X-WR-CALNAME:Femmes &amp; santé
X-ORIGINAL-URL:https://femmesetsante.be
X-WR-CALDESC:Évènements pour Femmes &amp; santé
REFRESH-INTERVAL;VALUE=DURATION:PT1H
X-Robots-Tag:noindex
X-PUBLISHED-TTL:PT1H
BEGIN:VTIMEZONE
TZID:Europe/Brussels
BEGIN:DAYLIGHT
TZOFFSETFROM:+0100
TZOFFSETTO:+0200
TZNAME:CEST
DTSTART:20210328T010000
END:DAYLIGHT
BEGIN:STANDARD
TZOFFSETFROM:+0200
TZOFFSETTO:+0100
TZNAME:CET
DTSTART:20211031T010000
END:STANDARD
BEGIN:DAYLIGHT
TZOFFSETFROM:+0100
TZOFFSETTO:+0200
TZNAME:CEST
DTSTART:20220327T010000
END:DAYLIGHT
BEGIN:STANDARD
TZOFFSETFROM:+0200
TZOFFSETTO:+0100
TZNAME:CET
DTSTART:20221030T010000
END:STANDARD
BEGIN:DAYLIGHT
TZOFFSETFROM:+0100
TZOFFSETTO:+0200
TZNAME:CEST
DTSTART:20230326T010000
END:DAYLIGHT
BEGIN:STANDARD
TZOFFSETFROM:+0200
TZOFFSETTO:+0100
TZNAME:CET
DTSTART:20231029T010000
END:STANDARD
END:VTIMEZONE
BEGIN:VEVENT
DTSTART;TZID=Europe/Brussels:20221016T000000
DTEND;TZID=Europe/Brussels:20221104T000000
DTSTAMP:20260424T215035
CREATED:20250122T125125Z
LAST-MODIFIED:20250122T125129Z
UID:1582-1665878400-1667520000@femmesetsante.be
SUMMARY:SAMEDIS des iNatTendus de la Maternité
DESCRIPTION:Nouvelle Formule!!!\nAteliers de partage et de collectage de récits – mémoires vivantes\nNous vous proposons une nouvelle formule pour les rencontres « les inattendus de la maternité ». \nNous avons choisi d’allonger les rencontres afin d’approfondir les thématiques et de constituer un groupe de femmes fixe. \nLe groupe peut toujours accueillir de nouvelles participantes pour un minimum de deux séances sur les trois proposées. Une dernière séance sera fixée avec les participantes inscrites. \nN’hésitez pas à vous inscrire avant le mardi 11 octobre 2022 en envoyant un mail à lavariationdesconstances@gmail.com. \nLes prochaines séances sont :\n\nLe dimanche 16 octobre de 10h à 13h qui aura lieu à Femmes et Santé.\nle samedi 29 octobre de 10h à 13h qui aura lieu au Théâtre de la Parole.\nle vendredi 4 novembre de 18h30 à 21h30 qui aura lieu à Femmes et Santé.\n\nDétails :\nAtelier dimanche 16 octobre de 10h à 13h – La Grossesse: \n\nLieu : Femmes et Santé\nIdées reçues et véhiculées par la société autour de la grossesse\, de l’accouchement\, le fait d’être mère et la réalité (les non-dits sur la grossesse\, les fausses couches\, sur l’accouchement\, la récupération\, mais aussi sur les joies de la maternité etc.).\n\nAtelier Samedi 29 octobre de 10h à 13h – Naissance et les premières mois (la 1ere année): \n\nLieu : Théâtre de la Parole\nLa découverte d’une nouvelle vie et ses complexités\n\nAtelier Vendredi 4 novembre de 18h30 à 21h30 – Entre Famille et TravailLieu : Femmes et Santé \nLes mères et le travail (déchirement et conjugaison entre la vie professionnelle et le nouveau rôle de mère etc.) \nRappel : Les rencontres des inattendus de la maternité\nEn collaboration avec Femmes et Santé\, le Théâtre de La parole et la Cie La Variation des constances\, Marta Celorico et Alice Martinache proposent de décloisonner la parole autour de ce qu’implique être maman (ou pas) dans le corps et “l’âme” lors de quatre ateliers. \nCes moments de rencontres sont une invitation à partager les inattendus de la parentalité et cela dès le désir d’enfant et tout au long de la vie. Nous explorerons ensemble nos capacités d’actions collectives pour produire un changement sur les réalités imaginées et transmises sur la maternité\, et ses enjeux sociétaux actuels. \nNous proposons quatre ateliers gratuits de partage et de collectage de récits et mémoires vivantes autour d’un thé ou café et d’un peu de grignotages. Pour débuter chaque moment de partage\, les artistes proposeront la lecture d’un texte\, d’un conte\, l’écoute d’une chanson\, le choix d’une image\, d’un objet ou un autre médium artistique. \nIl n’y pas de prérequis artistiques nécessaires. Vous êtes toutes bienvenues. L’espace proposé est ouvert et libre de préjugés. \nAvec l’accord des participantes\, ces matériaux pourront appuyé la réflexion et l’exploration d’une forme artistique – théâtre/récit/mouvement – sur la même thématique. Quelques participantes pourront\, si elles le désirent\, intégrer cette forme artistique déambulatoire. \nAdresses des lieux:\nFemmes et Santé : rue de Suisse 8\, 1060 Saint-Gilles \nThéâtre de la Parole : rue du Rouge Cloître 7/D\, 1160 Auderghem.
URL:https://femmesetsante.be/event/samedis-des-inattendus-de-la-maternite/
LOCATION:Femme et Santé\, Belgium
CATEGORIES:Appel à témoignage,Rencontres et échanges
ATTACH;FMTTYPE=image/jpeg:https://femmesetsante.be/wp-content/uploads/2025/01/Invitation-ateliers_Les_Inattendus.jpg
END:VEVENT
END:VCALENDAR