BEGIN:VCALENDAR
VERSION:2.0
PRODID:-//Femmes &amp; santé - ECPv6.15.14//NONSGML v1.0//EN
CALSCALE:GREGORIAN
METHOD:PUBLISH
X-WR-CALNAME:Femmes &amp; santé
X-ORIGINAL-URL:https://femmesetsante.be
X-WR-CALDESC:Évènements pour Femmes &amp; santé
REFRESH-INTERVAL;VALUE=DURATION:PT1H
X-Robots-Tag:noindex
X-PUBLISHED-TTL:PT1H
BEGIN:VTIMEZONE
TZID:Europe/Brussels
BEGIN:DAYLIGHT
TZOFFSETFROM:+0100
TZOFFSETTO:+0200
TZNAME:CEST
DTSTART:20240331T010000
END:DAYLIGHT
BEGIN:STANDARD
TZOFFSETFROM:+0200
TZOFFSETTO:+0100
TZNAME:CET
DTSTART:20241027T010000
END:STANDARD
BEGIN:DAYLIGHT
TZOFFSETFROM:+0100
TZOFFSETTO:+0200
TZNAME:CEST
DTSTART:20250330T010000
END:DAYLIGHT
BEGIN:STANDARD
TZOFFSETFROM:+0200
TZOFFSETTO:+0100
TZNAME:CET
DTSTART:20251026T010000
END:STANDARD
BEGIN:DAYLIGHT
TZOFFSETFROM:+0100
TZOFFSETTO:+0200
TZNAME:CEST
DTSTART:20260329T010000
END:DAYLIGHT
BEGIN:STANDARD
TZOFFSETFROM:+0200
TZOFFSETTO:+0100
TZNAME:CET
DTSTART:20261025T010000
END:STANDARD
END:VTIMEZONE
BEGIN:VEVENT
DTSTART;TZID=Europe/Brussels:20250918T140000
DTEND;TZID=Europe/Brussels:20250918T190000
DTSTAMP:20260421T060505
CREATED:20250617T101343Z
LAST-MODIFIED:20250704T091538Z
UID:2609-1758204000-1758222000@femmesetsante.be
SUMMARY:Journée d’étude : le genre en santé
DESCRIPTION:Dans le cadre du nouveau  « Service de support en matière d’approche genrée des inégalités de santé »\, dit SESU Genre\, fruit de la collaboration entre l’Observatoire du sida et des sexualités (OSS) et de Femmes et Santé\, nous proposons une journée d’étude autour du genre en santé.  \n \nProgramme\n\n14h00 – Présentation du SESU Genre par Sandrine Detandt (OSS ; ULB) & Julia De Clerck (Femmes et Santé)\n14h30 – Du biologique au social et du soin à la médecine : quelle approche du genre en santé ? par Aurélie Aromatario (ULB)\n16h00 – Femmes ignorantes\, femmes ignorées ? par Charlotte Pezeril & Sarah Demart (OSS ; ULB)\n17h00 – Naviguer sa transition. Une sociologie matérialiste des parcours transmasculins dans le paysage de soin belge francophone par Alix Fournier (ULiège – Prix Delor 2024)\n18h00 – Clôture et cocktail\n\nInscription gratuite mais demandée\n\n\n			\n				Formulaire d'inscription\n			\n				\n				\n				\n				\n				\n\nPartenaires \nUn événement de l’Observatoire du sida et des sexualités avec Femmes et Santé\, avec le soutien de la COCOF\, de la Faculté de psychologie\, sciences de l’éducation et logopédie de l’ULB et du STRIGES.
URL:https://femmesetsante.be/event/journee-detude-le-genre-en-sante/
LOCATION:Bâtiment S – Salle Dupreel\, ULB Campus du Solbosch\, Avenue Paul Héger 22\, Bruxelles\, 1050
CATEGORIES:Conférences
ATTACH;FMTTYPE=image/png:https://femmesetsante.be/wp-content/uploads/2025/06/18-sept-le-genre-en-sante.png
END:VEVENT
END:VCALENDAR